BEGIN:VCALENDAR
VERSION:2.0
PRODID:-//Derby Historical Society - ECPv6.15.20//NONSGML v1.0//EN
CALSCALE:GREGORIAN
METHOD:PUBLISH
X-ORIGINAL-URL:https://www.derbyhistorical.org
X-WR-CALDESC:Events for Derby Historical Society
REFRESH-INTERVAL;VALUE=DURATION:PT1H
X-Robots-Tag:noindex
X-PUBLISHED-TTL:PT1H
BEGIN:VTIMEZONE
TZID:UTC
BEGIN:STANDARD
TZOFFSETFROM:+0000
TZOFFSETTO:+0000
TZNAME:UTC
DTSTART:20240101T000000
END:STANDARD
END:VTIMEZONE
BEGIN:VEVENT
DTSTART;TZID=UTC:20251108T150000
DTEND;TZID=UTC:20251108T170000
DTSTAMP:20260419T143749
CREATED:20251009T174601Z
LAST-MODIFIED:20251009T174904Z
UID:1115-1762614000-1762621200@www.derbyhistorical.org
SUMMARY:Oak Cliff Cemetery Tour
DESCRIPTION:Join us for an informational walk around one of the Valley’s oldest cemeteries. \n  \nOAK CLIFF CEMETERY TOUR \nSaturday\, November 8th \n3pm \nRain Date: Saturday\, November 15th \n \nEnjoy a fall afternoon walk as you learn about the lives and legacies of those laid to rest in one of the area’s oldest cemeteries. The Oak Cliff Cemetery was established when the Borough of Birmingham section of Derby was laid out around 1835 and came into general use around 1846. It is the final resting places of some of the Valley’s leading industrialists. \n  \nTICKET PRICES: \nAdults – $20 \nChildren Under 10 – $10 \nSeniors – $15 \n  \nPlease use 72 Hawthorne Avenue\, Derby for your GPS. Park along Hawthorne Avenue and meet us at the Main Gate. \n  \nQuestions? Contact us at 203-735-1908 or info@derbyhistorical.org \n \n 
URL:https://www.derbyhistorical.org/event/oak-cliff-cemetery-tour/
LOCATION:Oakcliff Cemetery\, 72 Hawthorne Avenue\, Derby\, CT\, 06418\, United States
END:VEVENT
END:VCALENDAR