BEGIN:VCALENDAR
VERSION:2.0
PRODID:-//Derby Historical Society - ECPv6.15.20//NONSGML v1.0//EN
CALSCALE:GREGORIAN
METHOD:PUBLISH
X-WR-CALNAME:Derby Historical Society
X-ORIGINAL-URL:https://www.derbyhistorical.org
X-WR-CALDESC:Events for Derby Historical Society
REFRESH-INTERVAL;VALUE=DURATION:PT1H
X-Robots-Tag:noindex
X-PUBLISHED-TTL:PT1H
BEGIN:VTIMEZONE
TZID:UTC
BEGIN:STANDARD
TZOFFSETFROM:+0000
TZOFFSETTO:+0000
TZNAME:UTC
DTSTART:20240101T000000
END:STANDARD
END:VTIMEZONE
BEGIN:VEVENT
DTSTART;TZID=UTC:20250910T180000
DTEND;TZID=UTC:20250910T210000
DTSTAMP:20260424T085636
CREATED:20250722T163650Z
LAST-MODIFIED:20250807T151741Z
UID:1071-1757527200-1757538000@www.derbyhistorical.org
SUMMARY:Tavern Night
DESCRIPTION:The Derby Historical Society Presents \nTAVERN NIGHT \n \nSHHH… Fellas and Dolls – Listen Up! Join us for a roaring good time at the Quail and Ale Speakeasy. \n  \nWednesday\, September 10th \n6:00pm \nQuail and Ale\, 328 Derby Avenue\, Derby CT \n  \nLimited tickets are available. $60 pp includes a buffet style dinner with appetizers and dessert and your first drink. \nProhibition style clothes encouraged but not required but the password is required for admittance!
URL:https://www.derbyhistorical.org/event/tavern-night-2/
LOCATION:Quail and Ale\, 328 Derby Avenue\, Derby\, CT\, 06418\, United States
END:VEVENT
BEGIN:VEVENT
DTSTART;TZID=UTC:20250928T100000
DTEND;TZID=UTC:20250928T140000
DTSTAMP:20260424T085636
CREATED:20250821T162058Z
LAST-MODIFIED:20250917T164234Z
UID:1093-1759053600-1759068000@www.derbyhistorical.org
SUMMARY:Valley History Bus Tour
DESCRIPTION:Valley History Bus Tour \nSunday\, September 28\, 2025 \n10:00am – 2:00pm \n(The tour will start and end at the Ansonia Train Station\, 40 West Main Street\, Ansonia) \n                                                   \n  \nJoin the Derby Historical Society and your guide\, local history buff Jack Walsh\, on a bus tour of our remarkable Valley as we celebrate the City of Derby’s 350th Anniversary. Ride in comfort as Jack shares how the Valley secured its place in history and takes you to several local historical sites. \n  \nTickets are $50 per person and include a bagged lunch. \nTickets are limited and must be pre-paid and reserved by contacting the Derby Historical Society \n203-735-1908 or info@derbyhistorical.org \n  \n  \nTHIS EVENT IS SPONSORED BY THE VALLEY COMMUNITY FOUNDATION.
URL:https://www.derbyhistorical.org/event/valley-history-bus-tour-2/
END:VEVENT
END:VCALENDAR