BEGIN:VCALENDAR
VERSION:2.0
PRODID:-//Derby Historical Society - ECPv6.15.20//NONSGML v1.0//EN
CALSCALE:GREGORIAN
METHOD:PUBLISH
X-ORIGINAL-URL:https://www.derbyhistorical.org
X-WR-CALDESC:Events for Derby Historical Society
REFRESH-INTERVAL;VALUE=DURATION:PT1H
X-Robots-Tag:noindex
X-PUBLISHED-TTL:PT1H
BEGIN:VTIMEZONE
TZID:UTC
BEGIN:STANDARD
TZOFFSETFROM:+0000
TZOFFSETTO:+0000
TZNAME:UTC
DTSTART:20250101T000000
END:STANDARD
END:VTIMEZONE
BEGIN:VEVENT
DTSTART;TZID=UTC:20260411T100000
DTEND;TZID=UTC:20260411T120000
DTSTAMP:20260425T033557
CREATED:20260218T174405Z
LAST-MODIFIED:20260218T174405Z
UID:1164-1775901600-1775908800@www.derbyhistorical.org
SUMMARY:Civil War Stories with Dr. Joseph DiRienzo
DESCRIPTION:Civil War Stories \nSaturday\, April 11th \n10:00am \nDerby Public Library \n313 Elizabeth Street\, Derby CT \n\n  \nJoin Dr. Joseph DiRienzo for a special presentation on the Civil War as part of the Derby Historical Society’s celebration of America’s 250th Birthday. \n  \n \n\nCopies of Joe’s newest book “Lower Naugatuck Valley of Connecticut and the Civil War” will be available to be purchased and signed. 
URL:https://www.derbyhistorical.org/event/civil-war-stories-with-dr-joseph-dirienzo/
LOCATION:Derby Public Library\, 313 Elizabeth Street\, Derby\, 06418\, United States
END:VEVENT
BEGIN:VEVENT
DTSTART;TZID=UTC:20260412T130000
DTEND;TZID=UTC:20260412T160000
DTSTAMP:20260425T033557
CREATED:20260218T173858Z
LAST-MODIFIED:20260311T134718Z
UID:1158-1775998800-1776009600@www.derbyhistorical.org
SUMMARY:Annual Meeting Luncheon and Awards Presentation
DESCRIPTION:You are cordially invited to \nThe Derby Historical Society’s \nAnnual Meeting Luncheon and Awards Presentation \n \nSunday\, April 12th \n1:00pm – 4:00pm \nJ.R. Payden Field House\, 75 Chatfield Street\, Derby \nThis year’s award recipients are: \n  \nDorothy Larson Award \nGary Scarpa \n  \nDavid Humphreys Service Award \nPaul Simpson \n  \nDr. John I. Howe Award \nCatholic War Veterans Post 1562 \n  \nTickets are $45 per person \nPlease send checks made payable to Derby Historical Society to: \nDerby Historical Society \n37 Elm Street \nAnsonia\, CT 06401 \n  \n\n\n \n  \n  \n 
URL:https://www.derbyhistorical.org/event/annual-meeting-luncheon-and-awards-presentation-3/
LOCATION:Payden Field House\, 45 Chatfield Street\, Derby\, CT\, 06418\, United States
END:VEVENT
END:VCALENDAR