BEGIN:VCALENDAR
VERSION:2.0
PRODID:-//Derby Historical Society - ECPv6.15.20//NONSGML v1.0//EN
CALSCALE:GREGORIAN
METHOD:PUBLISH
X-WR-CALNAME:Derby Historical Society
X-ORIGINAL-URL:https://www.derbyhistorical.org
X-WR-CALDESC:Events for Derby Historical Society
REFRESH-INTERVAL;VALUE=DURATION:PT1H
X-Robots-Tag:noindex
X-PUBLISHED-TTL:PT1H
BEGIN:VTIMEZONE
TZID:UTC
BEGIN:STANDARD
TZOFFSETFROM:+0000
TZOFFSETTO:+0000
TZNAME:UTC
DTSTART:20250101T000000
END:STANDARD
END:VTIMEZONE
BEGIN:VEVENT
DTSTART;TZID=UTC:20260111T130000
DTEND;TZID=UTC:20260111T160000
DTSTAMP:20260423T151344
CREATED:20251120T171456Z
LAST-MODIFIED:20251120T171456Z
UID:1135-1768136400-1768147200@www.derbyhistorical.org
SUMMARY:Twelfth Night Celebration
DESCRIPTION:You’re Invited to \nOur Twelfth Night Celebration \nSunday\, January 11th \n1:00pm – 4:00pm \nDavid Humphreys House\, 37 Elm Street\, Ansonia \n\nA traditional celebration of the last night of Christmas with food\, caroling and a reading of A Christmas Carol \n$5 per person at the door\, Members are FREE.
URL:https://www.derbyhistorical.org/event/twelfth-night-celebration/
LOCATION:David Humphreys House
END:VEVENT
END:VCALENDAR