BEGIN:VCALENDAR
VERSION:2.0
PRODID:-//Derby Historical Society - ECPv6.15.20//NONSGML v1.0//EN
CALSCALE:GREGORIAN
METHOD:PUBLISH
X-ORIGINAL-URL:https://www.derbyhistorical.org
X-WR-CALDESC:Events for Derby Historical Society
REFRESH-INTERVAL;VALUE=DURATION:PT1H
X-Robots-Tag:noindex
X-PUBLISHED-TTL:PT1H
BEGIN:VTIMEZONE
TZID:UTC
BEGIN:STANDARD
TZOFFSETFROM:+0000
TZOFFSETTO:+0000
TZNAME:UTC
DTSTART:20240101T000000
END:STANDARD
END:VTIMEZONE
BEGIN:VEVENT
DTSTART;TZID=UTC:20250526T090000
DTEND;TZID=UTC:20250526T110000
DTSTAMP:20260424T155402
CREATED:20250528T151134Z
LAST-MODIFIED:20250528T151134Z
UID:1052-1748250000-1748257200@www.derbyhistorical.org
SUMMARY:Memorial Day Parade
DESCRIPTION:The Derby Historical Society and the 6th CT Regiment will be marching in the Derby-Shelton Parade. The parade kicks off at 9am at Howe Avenue and Coram Avenue in Shelton and ends on Elizabeth Street in Derby.
URL:https://www.derbyhistorical.org/event/memorial-day-parade/
END:VEVENT
END:VCALENDAR